Package: derfinderHelper Version: 1.34.0 Command: rm -rf derfinderHelper.buildbin-libdir && mkdir derfinderHelper.buildbin-libdir && F:\biocbuild\bbs-3.17-bioc\R\bin\R.exe CMD INSTALL --build --library=derfinderHelper.buildbin-libdir derfinderHelper_1.34.0.tar.gz StartedAt: 2023-10-16 08:41:47 -0400 (Mon, 16 Oct 2023) EndedAt: 2023-10-16 08:41:59 -0400 (Mon, 16 Oct 2023) EllapsedTime: 11.5 seconds RetCode: 0 Status: OK PackageFile: derfinderHelper_1.34.0.zip PackageFileSize: 327.8 KiB