Package: derfinder Version: 1.34.0 Command: rm -rf derfinder.buildbin-libdir && mkdir derfinder.buildbin-libdir && F:\biocbuild\bbs-3.17-bioc\R\bin\R.exe CMD INSTALL --build --library=derfinder.buildbin-libdir derfinder_1.34.0.tar.gz StartedAt: 2023-10-16 08:41:46 -0400 (Mon, 16 Oct 2023) EndedAt: 2023-10-16 08:42:40 -0400 (Mon, 16 Oct 2023) EllapsedTime: 53.8 seconds RetCode: 0 Status: OK PackageFile: derfinder_1.34.0.zip PackageFileSize: 1.333 MiB