Package: derfinder Version: 1.34.0 Command: /Library/Frameworks/R.framework/Resources/bin/R CMD check --install=check:derfinder.install-out.txt --library=/Library/Frameworks/R.framework/Resources/library --no-vignettes --timings derfinder_1.34.0.tar.gz StartedAt: 2023-10-16 00:50:23 -0400 (Mon, 16 Oct 2023) EndedAt: 2023-10-16 01:16:48 -0400 (Mon, 16 Oct 2023) EllapsedTime: 1585.3 seconds RetCode: 0 Status: OK CheckDir: derfinder.Rcheck Warnings: 0