Package: demuxmix Version: 1.2.0 Command: /Library/Frameworks/R.framework/Resources/bin/R CMD INSTALL demuxmix StartedAt: 2023-10-15 15:11:10 -0400 (Sun, 15 Oct 2023) EndedAt: 2023-10-15 15:11:45 -0400 (Sun, 15 Oct 2023) EllapsedTime: 35.5 seconds RetCode: 0 Status: OK