Package: deltaCaptureC Version: 1.14.0 Command: chmod a+r deltaCaptureC -R && F:\biocbuild\bbs-3.17-bioc\R\bin\R.exe CMD build --keep-empty-dirs --no-resave-data deltaCaptureC StartedAt: 2023-10-15 18:40:41 -0400 (Sun, 15 Oct 2023) EndedAt: 2023-10-15 18:42:42 -0400 (Sun, 15 Oct 2023) EllapsedTime: 121.7 seconds RetCode: 0 Status: OK PackageFile: deltaCaptureC_1.14.0.tar.gz PackageFileSize: 292.1 KiB