Package: deltaCaptureC Version: 1.14.0 Command: /home/biocbuild/bbs-3.17-bioc/R/bin/R CMD build --keep-empty-dirs --no-resave-data deltaCaptureC StartedAt: 2023-10-15 16:33:27 -0400 (Sun, 15 Oct 2023) EndedAt: 2023-10-15 16:35:26 -0400 (Sun, 15 Oct 2023) EllapsedTime: 119.6 seconds RetCode: 0 Status: OK PackageFile: deltaCaptureC_1.14.0.tar.gz PackageFileSize: 323.8 KiB