Package: deltaCaptureC Version: 1.14.0 Command: /Library/Frameworks/R.framework/Resources/bin/R CMD INSTALL deltaCaptureC StartedAt: 2023-10-15 15:25:24 -0400 (Sun, 15 Oct 2023) EndedAt: 2023-10-15 15:27:14 -0400 (Sun, 15 Oct 2023) EllapsedTime: 109.5 seconds RetCode: 0 Status: OK