Package: deltaCaptureC Version: 1.14.0 Command: /Library/Frameworks/R.framework/Resources/bin/R CMD build --keep-empty-dirs --no-resave-data deltaCaptureC StartedAt: 2023-10-15 17:52:33 -0400 (Sun, 15 Oct 2023) EndedAt: 2023-10-15 17:57:57 -0400 (Sun, 15 Oct 2023) EllapsedTime: 324.3 seconds RetCode: 0 Status: OK PackageFile: deltaCaptureC_1.14.0.tar.gz PackageFileSize: 326 KiB