Package: deltaCaptureC Version: 1.14.0 Command: rm -rf deltaCaptureC.buildbin-libdir && mkdir deltaCaptureC.buildbin-libdir && /Users/biocbuild/BBS/utils/build-universal.sh deltaCaptureC_1.14.0.tar.gz /Library/Frameworks/R.framework/Resources/bin/R deltaCaptureC.buildbin-libdir StartedAt: 2023-10-16 09:16:11 -0400 (Mon, 16 Oct 2023) EndedAt: 2023-10-16 09:17:47 -0400 (Mon, 16 Oct 2023) EllapsedTime: 95.1 seconds RetCode: 0 Status: OK PackageFile: deltaCaptureC_1.14.0.tgz PackageFileSize: 495.7 KiB