Package: deepSNV Version: 1.46.0 Command: chmod a+r deepSNV -R && F:\biocbuild\bbs-3.17-bioc\R\bin\R.exe CMD build --keep-empty-dirs --no-resave-data deepSNV StartedAt: 2023-10-15 18:36:46 -0400 (Sun, 15 Oct 2023) EndedAt: 2023-10-15 18:38:32 -0400 (Sun, 15 Oct 2023) EllapsedTime: 106.2 seconds RetCode: 0 Status: OK PackageFile: deepSNV_1.46.0.tar.gz PackageFileSize: 2.322 MiB