Package: deepSNV Version: 1.46.0 Command: /home/biocbuild/bbs-3.17-bioc/R/bin/R CMD build --keep-empty-dirs --no-resave-data deepSNV StartedAt: 2023-10-15 16:32:10 -0400 (Sun, 15 Oct 2023) EndedAt: 2023-10-15 16:33:27 -0400 (Sun, 15 Oct 2023) EllapsedTime: 76.4 seconds RetCode: 0 Status: OK PackageFile: deepSNV_1.46.0.tar.gz PackageFileSize: 2.323 MiB