Package: deepSNV Version: 1.46.0 Command: /Library/Frameworks/R.framework/Resources/bin/R CMD build --keep-empty-dirs --no-resave-data deepSNV StartedAt: 2023-10-15 17:50:29 -0400 (Sun, 15 Oct 2023) EndedAt: 2023-10-15 17:53:42 -0400 (Sun, 15 Oct 2023) EllapsedTime: 193.0 seconds RetCode: 0 Status: OK PackageFile: deepSNV_1.46.0.tar.gz PackageFileSize: 2.44 MiB