Package: decoupleR Version: 2.6.0 Command: /home/biocbuild/bbs-3.17-bioc/R/bin/R CMD INSTALL decoupleR StartedAt: 2023-10-15 15:10:40 -0400 (Sun, 15 Oct 2023) EndedAt: 2023-10-15 15:10:52 -0400 (Sun, 15 Oct 2023) EllapsedTime: 11.8 seconds RetCode: 0 Status: OK