Package: decoupleR Version: 2.6.0 Command: /Library/Frameworks/R.framework/Resources/bin/R CMD INSTALL decoupleR StartedAt: 2023-10-15 15:09:02 -0400 (Sun, 15 Oct 2023) EndedAt: 2023-10-15 15:09:45 -0400 (Sun, 15 Oct 2023) EllapsedTime: 43.7 seconds RetCode: 0 Status: OK