Package: decompTumor2Sig Version: 2.16.0 Command: F:\biocbuild\bbs-3.17-bioc\R\bin\R.exe CMD INSTALL decompTumor2Sig StartedAt: 2023-10-15 16:31:53 -0400 (Sun, 15 Oct 2023) EndedAt: 2023-10-15 16:32:46 -0400 (Sun, 15 Oct 2023) EllapsedTime: 52.9 seconds RetCode: 0 Status: OK