Package: decompTumor2Sig Version: 2.16.0 Command: F:\biocbuild\bbs-3.17-bioc\R\bin\R.exe CMD check --no-multiarch --install=check:decompTumor2Sig.install-out.txt --library=F:\biocbuild\bbs-3.17-bioc\R\library --no-vignettes --timings decompTumor2Sig_2.16.0.tar.gz StartedAt: 2023-10-16 01:17:40 -0400 (Mon, 16 Oct 2023) EndedAt: 2023-10-16 01:23:52 -0400 (Mon, 16 Oct 2023) EllapsedTime: 371.2 seconds RetCode: 0 Status: OK CheckDir: decompTumor2Sig.Rcheck Warnings: 0