Package: decompTumor2Sig Version: 2.16.0 Command: chmod a+r decompTumor2Sig -R && F:\biocbuild\bbs-3.17-bioc\R\bin\R.exe CMD build --keep-empty-dirs --no-resave-data decompTumor2Sig StartedAt: 2023-10-15 18:35:29 -0400 (Sun, 15 Oct 2023) EndedAt: 2023-10-15 18:42:10 -0400 (Sun, 15 Oct 2023) EllapsedTime: 401.6 seconds RetCode: 0 Status: OK PackageFile: decompTumor2Sig_2.16.0.tar.gz PackageFileSize: 2.387 MiB