Package: decompTumor2Sig Version: 2.16.0 Command: rm -rf decompTumor2Sig.buildbin-libdir && mkdir decompTumor2Sig.buildbin-libdir && F:\biocbuild\bbs-3.17-bioc\R\bin\R.exe CMD INSTALL --build --library=decompTumor2Sig.buildbin-libdir decompTumor2Sig_2.16.0.tar.gz StartedAt: 2023-10-16 08:40:33 -0400 (Mon, 16 Oct 2023) EndedAt: 2023-10-16 08:41:27 -0400 (Mon, 16 Oct 2023) EllapsedTime: 54.6 seconds RetCode: 0 Status: OK PackageFile: decompTumor2Sig_2.16.0.zip PackageFileSize: 2.428 MiB