Package: decompTumor2Sig Version: 2.16.0 Command: /home/biocbuild/bbs-3.17-bioc/R/bin/R CMD INSTALL decompTumor2Sig StartedAt: 2023-10-15 15:25:21 -0400 (Sun, 15 Oct 2023) EndedAt: 2023-10-15 15:26:04 -0400 (Sun, 15 Oct 2023) EllapsedTime: 42.8 seconds RetCode: 0 Status: OK