Package: decompTumor2Sig Version: 2.16.0 Command: /Library/Frameworks/R.framework/Resources/bin/R CMD INSTALL decompTumor2Sig StartedAt: 2023-10-15 15:43:11 -0400 (Sun, 15 Oct 2023) EndedAt: 2023-10-15 15:45:23 -0400 (Sun, 15 Oct 2023) EllapsedTime: 132.1 seconds RetCode: 0 Status: OK