Package: decompTumor2Sig Version: 2.16.0 Command: /Library/Frameworks/R.framework/Resources/bin/R CMD build --keep-empty-dirs --no-resave-data decompTumor2Sig StartedAt: 2023-10-15 17:49:36 -0400 (Sun, 15 Oct 2023) EndedAt: 2023-10-15 18:03:00 -0400 (Sun, 15 Oct 2023) EllapsedTime: 804.3 seconds RetCode: 0 Status: OK PackageFile: decompTumor2Sig_2.16.0.tar.gz PackageFileSize: 2.654 MiB