Package: deco Version: 1.16.0 Command: F:\biocbuild\bbs-3.17-bioc\R\bin\R.exe CMD INSTALL deco StartedAt: 2023-10-15 16:26:03 -0400 (Sun, 15 Oct 2023) EndedAt: 2023-10-15 16:26:44 -0400 (Sun, 15 Oct 2023) EllapsedTime: 40.9 seconds RetCode: 0 Status: OK