Package: deco Version: 1.16.0 Command: chmod a+r deco -R && F:\biocbuild\bbs-3.17-bioc\R\bin\R.exe CMD build --keep-empty-dirs --no-resave-data deco StartedAt: 2023-10-15 18:35:27 -0400 (Sun, 15 Oct 2023) EndedAt: 2023-10-15 18:36:28 -0400 (Sun, 15 Oct 2023) EllapsedTime: 61.1 seconds RetCode: 1 Status: ERROR PackageFile: None PackageFileSize: NA