Package: deco Version: 1.16.0 Command: /Library/Frameworks/R.framework/Resources/bin/R CMD build --keep-empty-dirs --no-resave-data deco StartedAt: 2023-10-15 17:49:19 -0400 (Sun, 15 Oct 2023) EndedAt: 2023-10-15 17:51:35 -0400 (Sun, 15 Oct 2023) EllapsedTime: 136.3 seconds RetCode: 1 Status: ERROR PackageFile: None PackageFileSize: NA