Package: deco Version: 1.15.0 Command: rm -rf deco.buildbin-libdir && mkdir deco.buildbin-libdir && /Users/biocbuild/BBS/utils/build-universal.sh deco_1.15.0.tar.gz /Library/Frameworks/R.framework/Resources/bin/R deco.buildbin-libdir StartedAt: 2022-11-09 08:51:24 -0500 (Wed, 09 Nov 2022) EndedAt: 2022-11-09 08:53:16 -0500 (Wed, 09 Nov 2022) EllapsedTime: 112.1 seconds RetCode: 0 Status: OK PackageFile: deco_1.15.0.tgz PackageFileSize: 3.58 MiB