Package: debrowser Version: 1.28.3 Command: /home/biocbuild/bbs-3.17-bioc/R/bin/R CMD INSTALL debrowser StartedAt: 2023-10-15 15:41:13 -0400 (Sun, 15 Oct 2023) EndedAt: 2023-10-15 15:41:56 -0400 (Sun, 15 Oct 2023) EllapsedTime: 43.5 seconds RetCode: 0 Status: OK