Package: debrowser Version: 1.28.3 Command: /home/biocbuild/bbs-3.17-bioc/R/bin/R CMD check --install=check:debrowser.install-out.txt --library=/home/biocbuild/bbs-3.17-bioc/R/site-library --timings debrowser_1.28.3.tar.gz StartedAt: 2023-10-15 20:38:11 -0400 (Sun, 15 Oct 2023) EndedAt: 2023-10-15 20:44:44 -0400 (Sun, 15 Oct 2023) EllapsedTime: 392.3 seconds RetCode: 0 Status: OK CheckDir: debrowser.Rcheck Warnings: 0