Package: debrowser Version: 1.28.3 Command: /home/biocbuild/bbs-3.17-bioc/R/bin/R CMD build --keep-empty-dirs --no-resave-data debrowser StartedAt: 2023-10-15 16:31:41 -0400 (Sun, 15 Oct 2023) EndedAt: 2023-10-15 16:33:00 -0400 (Sun, 15 Oct 2023) EllapsedTime: 79.0 seconds RetCode: 0 Status: OK PackageFile: debrowser_1.28.3.tar.gz PackageFileSize: 18.22 MiB