Package: debCAM Version: 1.18.0 Command: chmod a+r debCAM -R && F:\biocbuild\bbs-3.17-bioc\R\bin\R.exe CMD build --keep-empty-dirs --no-resave-data debCAM StartedAt: 2023-10-15 18:35:08 -0400 (Sun, 15 Oct 2023) EndedAt: 2023-10-15 18:41:12 -0400 (Sun, 15 Oct 2023) EllapsedTime: 363.7 seconds RetCode: 0 Status: OK PackageFile: debCAM_1.18.0.tar.gz PackageFileSize: 3.398 MiB