Package: debCAM Version: 1.18.0 Command: rm -rf debCAM.buildbin-libdir && mkdir debCAM.buildbin-libdir && F:\biocbuild\bbs-3.17-bioc\R\bin\R.exe CMD INSTALL --build --library=debCAM.buildbin-libdir debCAM_1.18.0.tar.gz StartedAt: 2023-10-16 08:40:22 -0400 (Mon, 16 Oct 2023) EndedAt: 2023-10-16 08:40:36 -0400 (Mon, 16 Oct 2023) EllapsedTime: 13.9 seconds RetCode: 0 Status: OK PackageFile: debCAM_1.18.0.zip PackageFileSize: 2.829 MiB