Package: debCAM Version: 1.18.0 Command: /home/biocbuild/bbs-3.17-bioc/R/bin/R CMD check --install=check:debCAM.install-out.txt --library=/home/biocbuild/bbs-3.17-bioc/R/site-library --timings debCAM_1.18.0.tar.gz StartedAt: 2023-10-15 20:37:58 -0400 (Sun, 15 Oct 2023) EndedAt: 2023-10-15 20:46:22 -0400 (Sun, 15 Oct 2023) EllapsedTime: 503.6 seconds RetCode: 0 Status: OK CheckDir: debCAM.Rcheck Warnings: 0