Package: debCAM Version: 1.18.0 Command: /Library/Frameworks/R.framework/Resources/bin/R CMD build --keep-empty-dirs --no-resave-data debCAM StartedAt: 2023-10-15 17:48:59 -0400 (Sun, 15 Oct 2023) EndedAt: 2023-10-15 18:02:58 -0400 (Sun, 15 Oct 2023) EllapsedTime: 838.9 seconds RetCode: 0 Status: OK PackageFile: debCAM_1.18.0.tar.gz PackageFileSize: 3.694 MiB