Package: debCAM Version: 1.18.0 Command: rm -rf debCAM.buildbin-libdir && mkdir debCAM.buildbin-libdir && /Users/biocbuild/BBS/utils/build-universal.sh debCAM_1.18.0.tar.gz /Library/Frameworks/R.framework/Resources/bin/R debCAM.buildbin-libdir StartedAt: 2023-10-16 09:15:09 -0400 (Mon, 16 Oct 2023) EndedAt: 2023-10-16 09:15:47 -0400 (Mon, 16 Oct 2023) EllapsedTime: 38.8 seconds RetCode: 0 Status: OK PackageFile: debCAM_1.18.0.tgz PackageFileSize: 3.119 MiB