Package: dearseq Version: 1.12.1 Command: F:\biocbuild\bbs-3.17-bioc\R\bin\R.exe CMD INSTALL dearseq StartedAt: 2023-10-15 16:49:08 -0400 (Sun, 15 Oct 2023) EndedAt: 2023-10-15 16:49:21 -0400 (Sun, 15 Oct 2023) EllapsedTime: 13.4 seconds RetCode: 0 Status: OK