Package: dearseq Version: 1.12.1 Command: /home/biocbuild/bbs-3.17-bioc/R/bin/R CMD INSTALL dearseq StartedAt: 2023-10-15 15:40:59 -0400 (Sun, 15 Oct 2023) EndedAt: 2023-10-15 15:41:08 -0400 (Sun, 15 Oct 2023) EllapsedTime: 8.8 seconds RetCode: 0 Status: OK