Package: dearseq Version: 1.12.1 Command: /home/biocbuild/bbs-3.17-bioc/R/bin/R CMD build --keep-empty-dirs --no-resave-data dearseq StartedAt: 2023-10-15 16:31:28 -0400 (Sun, 15 Oct 2023) EndedAt: 2023-10-15 16:34:41 -0400 (Sun, 15 Oct 2023) EllapsedTime: 192.3 seconds RetCode: 0 Status: OK PackageFile: dearseq_1.12.1.tar.gz PackageFileSize: 654.8 KiB