Package: dearseq Version: 1.12.1 Command: /Library/Frameworks/R.framework/Resources/bin/R CMD INSTALL dearseq StartedAt: 2023-10-15 16:13:45 -0400 (Sun, 15 Oct 2023) EndedAt: 2023-10-15 16:14:17 -0400 (Sun, 15 Oct 2023) EllapsedTime: 31.2 seconds RetCode: 0 Status: OK