Package: dearseq Version: 1.12.1 Command: /Library/Frameworks/R.framework/Resources/bin/R CMD build --keep-empty-dirs --no-resave-data dearseq StartedAt: 2023-10-15 17:48:57 -0400 (Sun, 15 Oct 2023) EndedAt: 2023-10-15 17:58:02 -0400 (Sun, 15 Oct 2023) EllapsedTime: 544.8 seconds RetCode: 0 Status: OK PackageFile: dearseq_1.12.1.tar.gz PackageFileSize: 708.4 KiB