Package: ddCt Version: 1.56.0 Command: F:\biocbuild\bbs-3.17-bioc\R\bin\R.exe CMD check --no-multiarch --install=check:ddCt.install-out.txt --library=F:\biocbuild\bbs-3.17-bioc\R\library --no-vignettes --timings ddCt_1.56.0.tar.gz StartedAt: 2023-10-16 01:16:04 -0400 (Mon, 16 Oct 2023) EndedAt: 2023-10-16 01:16:43 -0400 (Mon, 16 Oct 2023) EllapsedTime: 39.3 seconds RetCode: 0 Status: WARNINGS CheckDir: ddCt.Rcheck Warnings: 1