Package: ddCt Version: 1.56.0 Command: /Library/Frameworks/R.framework/Resources/bin/R CMD INSTALL ddCt StartedAt: 2023-10-15 15:09:31 -0400 (Sun, 15 Oct 2023) EndedAt: 2023-10-15 15:10:13 -0400 (Sun, 15 Oct 2023) EllapsedTime: 42.2 seconds RetCode: 0 Status: OK