Package: ddCt Version: 1.56.0 Command: /Library/Frameworks/R.framework/Resources/bin/R CMD check --install=check:ddCt.install-out.txt --library=/Library/Frameworks/R.framework/Resources/library --no-vignettes --timings ddCt_1.56.0.tar.gz StartedAt: 2023-10-16 00:37:31 -0400 (Mon, 16 Oct 2023) EndedAt: 2023-10-16 00:38:59 -0400 (Mon, 16 Oct 2023) EllapsedTime: 88.5 seconds RetCode: 0 Status: WARNINGS CheckDir: ddCt.Rcheck Warnings: 1