Package: ddCt Version: 1.56.0 Command: rm -rf ddCt.buildbin-libdir && mkdir ddCt.buildbin-libdir && /Users/biocbuild/BBS/utils/build-universal.sh ddCt_1.56.0.tar.gz /Library/Frameworks/R.framework/Resources/bin/R ddCt.buildbin-libdir StartedAt: 2023-10-16 09:14:58 -0400 (Mon, 16 Oct 2023) EndedAt: 2023-10-16 09:15:20 -0400 (Mon, 16 Oct 2023) EllapsedTime: 22.3 seconds RetCode: 0 Status: OK PackageFile: ddCt_1.56.0.tgz PackageFileSize: 1.013 MiB