Package: dce Version: 1.8.2 Command: F:\biocbuild\bbs-3.17-bioc\R\bin\R.exe CMD INSTALL dce StartedAt: 2023-10-15 16:55:46 -0400 (Sun, 15 Oct 2023) EndedAt: 2023-10-15 16:56:30 -0400 (Sun, 15 Oct 2023) EllapsedTime: 44.3 seconds RetCode: 0 Status: OK