Package: dce Version: 1.8.2 Command: F:\biocbuild\bbs-3.17-bioc\R\bin\R.exe CMD check --no-multiarch --install=check:dce.install-out.txt --library=F:\biocbuild\bbs-3.17-bioc\R\library --no-vignettes --timings dce_1.8.2.tar.gz StartedAt: 2023-10-16 01:15:18 -0400 (Mon, 16 Oct 2023) EndedAt: 2023-10-16 01:20:46 -0400 (Mon, 16 Oct 2023) EllapsedTime: 328.4 seconds RetCode: 0 Status: OK CheckDir: dce.Rcheck Warnings: 0