Package: dce Version: 1.8.2 Command: rm -rf dce.buildbin-libdir && mkdir dce.buildbin-libdir && F:\biocbuild\bbs-3.17-bioc\R\bin\R.exe CMD INSTALL --build --library=dce.buildbin-libdir dce_1.8.2.tar.gz StartedAt: 2023-10-16 08:40:11 -0400 (Mon, 16 Oct 2023) EndedAt: 2023-10-16 08:40:53 -0400 (Mon, 16 Oct 2023) EllapsedTime: 42.6 seconds RetCode: 0 Status: OK PackageFile: dce_1.8.2.zip PackageFileSize: 2.224 MiB