Package: dce Version: 1.8.2 Command: /Library/Frameworks/R.framework/Resources/bin/R CMD check --install=check:dce.install-out.txt --library=/Library/Frameworks/R.framework/Resources/library --no-vignettes --timings dce_1.8.2.tar.gz StartedAt: 2023-10-16 00:37:11 -0400 (Mon, 16 Oct 2023) EndedAt: 2023-10-16 00:52:59 -0400 (Mon, 16 Oct 2023) EllapsedTime: 947.8 seconds RetCode: 0 Status: OK CheckDir: dce.Rcheck Warnings: 0