Package: dce Version: 1.8.2 Command: /Library/Frameworks/R.framework/Resources/bin/R CMD build --keep-empty-dirs --no-resave-data dce StartedAt: 2023-10-15 17:48:35 -0400 (Sun, 15 Oct 2023) EndedAt: 2023-10-15 17:53:54 -0400 (Sun, 15 Oct 2023) EllapsedTime: 318.4 seconds RetCode: 0 Status: OK PackageFile: dce_1.8.2.tar.gz PackageFileSize: 2.856 MiB