Package: dce Version: 1.8.2 Command: rm -rf dce.buildbin-libdir && mkdir dce.buildbin-libdir && /Users/biocbuild/BBS/utils/build-universal.sh dce_1.8.2.tar.gz /Library/Frameworks/R.framework/Resources/bin/R dce.buildbin-libdir StartedAt: 2023-10-16 09:14:51 -0400 (Mon, 16 Oct 2023) EndedAt: 2023-10-16 09:16:57 -0400 (Mon, 16 Oct 2023) EllapsedTime: 125.3 seconds RetCode: 0 Status: OK PackageFile: dce_1.8.2.tgz PackageFileSize: 3.105 MiB