Package: dcanr Version: 1.16.0 Command: F:\biocbuild\bbs-3.17-bioc\R\bin\R.exe CMD INSTALL dcanr StartedAt: 2023-10-15 16:14:03 -0400 (Sun, 15 Oct 2023) EndedAt: 2023-10-15 16:14:10 -0400 (Sun, 15 Oct 2023) EllapsedTime: 6.9 seconds RetCode: 0 Status: OK