Package: dcanr Version: 1.16.0 Command: /Library/Frameworks/R.framework/Resources/bin/R CMD check --install=check:dcanr.install-out.txt --library=/Library/Frameworks/R.framework/Resources/library --no-vignettes --timings dcanr_1.16.0.tar.gz StartedAt: 2023-10-16 00:37:03 -0400 (Mon, 16 Oct 2023) EndedAt: 2023-10-16 00:39:41 -0400 (Mon, 16 Oct 2023) EllapsedTime: 158.4 seconds RetCode: 0 Status: OK CheckDir: dcanr.Rcheck Warnings: 0